BEGIN:VCALENDAR
VERSION:2.0
PRODID:-//Center for Excellence in Teaching, Learning and Innovation - ECPv6.15.17.1//NONSGML v1.0//EN
CALSCALE:GREGORIAN
METHOD:PUBLISH
X-WR-CALNAME:Center for Excellence in Teaching, Learning and Innovation
X-ORIGINAL-URL:https://cetli.upenn.edu
X-WR-CALDESC:Events for Center for Excellence in Teaching, Learning and Innovation
REFRESH-INTERVAL;VALUE=DURATION:PT1H
X-Robots-Tag:noindex
X-PUBLISHED-TTL:PT1H
BEGIN:VTIMEZONE
TZID:America/New_York
BEGIN:DAYLIGHT
TZOFFSETFROM:-0500
TZOFFSETTO:-0400
TZNAME:EDT
DTSTART:20240310T070000
END:DAYLIGHT
BEGIN:STANDARD
TZOFFSETFROM:-0400
TZOFFSETTO:-0500
TZNAME:EST
DTSTART:20241103T060000
END:STANDARD
BEGIN:DAYLIGHT
TZOFFSETFROM:-0500
TZOFFSETTO:-0400
TZNAME:EDT
DTSTART:20250309T070000
END:DAYLIGHT
BEGIN:STANDARD
TZOFFSETFROM:-0400
TZOFFSETTO:-0500
TZNAME:EST
DTSTART:20251102T060000
END:STANDARD
BEGIN:DAYLIGHT
TZOFFSETFROM:-0500
TZOFFSETTO:-0400
TZNAME:EDT
DTSTART:20260308T070000
END:DAYLIGHT
BEGIN:STANDARD
TZOFFSETFROM:-0400
TZOFFSETTO:-0500
TZNAME:EST
DTSTART:20261101T060000
END:STANDARD
END:VTIMEZONE
BEGIN:VEVENT
DTSTART;TZID=America/New_York:20251112T134500
DTEND;TZID=America/New_York:20251112T150000
DTSTAMP:20260422T062617
CREATED:20251006T162713Z
LAST-MODIFIED:20251105T203948Z
UID:26058-1762955100-1762959600@cetli.upenn.edu
SUMMARY:Teaching History with Library Resources and Collections
DESCRIPTION:This workshop introduces a range of library resources and collections useful for teaching history\, particularly for instructors teaching out of their primary period and regional fields. Open to all. Refreshments will be provided. \nCounts toward the CETLI Teaching Certificate.
URL:https://cetli.upenn.edu/event/teaching-history/
LOCATION:College Hall\, 1 College Hall\, Philadelphia\, PA\, 19104\, United States
CATEGORIES:Graduate Student Workshop
GEO:39.951493;-75.193773
X-APPLE-STRUCTURED-LOCATION;VALUE=URI;X-ADDRESS=College Hall 1 College Hall Philadelphia PA 19104 United States;X-APPLE-RADIUS=500;X-TITLE=1 College Hall:geo:-75.193773,39.951493
END:VEVENT
END:VCALENDAR