BEGIN:VCALENDAR
VERSION:2.0
PRODID:-//Center for Excellence in Teaching, Learning and Innovation - ECPv6.15.17.1//NONSGML v1.0//EN
CALSCALE:GREGORIAN
METHOD:PUBLISH
X-WR-CALNAME:Center for Excellence in Teaching, Learning and Innovation
X-ORIGINAL-URL:https://cetli.upenn.edu
X-WR-CALDESC:Events for Center for Excellence in Teaching, Learning and Innovation
REFRESH-INTERVAL;VALUE=DURATION:PT1H
X-Robots-Tag:noindex
X-PUBLISHED-TTL:PT1H
BEGIN:VTIMEZONE
TZID:America/New_York
BEGIN:DAYLIGHT
TZOFFSETFROM:-0500
TZOFFSETTO:-0400
TZNAME:EDT
DTSTART:20250309T070000
END:DAYLIGHT
BEGIN:STANDARD
TZOFFSETFROM:-0400
TZOFFSETTO:-0500
TZNAME:EST
DTSTART:20251102T060000
END:STANDARD
BEGIN:DAYLIGHT
TZOFFSETFROM:-0500
TZOFFSETTO:-0400
TZNAME:EDT
DTSTART:20260308T070000
END:DAYLIGHT
BEGIN:STANDARD
TZOFFSETFROM:-0400
TZOFFSETTO:-0500
TZNAME:EST
DTSTART:20261101T060000
END:STANDARD
BEGIN:DAYLIGHT
TZOFFSETFROM:-0500
TZOFFSETTO:-0400
TZNAME:EDT
DTSTART:20270314T070000
END:DAYLIGHT
BEGIN:STANDARD
TZOFFSETFROM:-0400
TZOFFSETTO:-0500
TZNAME:EST
DTSTART:20271107T060000
END:STANDARD
END:VTIMEZONE
BEGIN:VEVENT
DTSTART;TZID=America/New_York:20260210T160000
DTEND;TZID=America/New_York:20260210T171500
DTSTAMP:20260420T150114
CREATED:20260108T195753Z
LAST-MODIFIED:20260108T195753Z
UID:26744-1770739200-1770743700@cetli.upenn.edu
SUMMARY:Making an Effective Lesson Plan
DESCRIPTION:In this interactive workshop\, participants will learn how to transform a list of teaching topics into a flexible lesson template with easy-to-modify and “stackable” action items. As part of lesson planning\, this workshop will address learning objectives\, pre-class preparation\, scaffolding complex material\, student-centered multimodal learning components\, and more. Participants will leave with effective lesson-planning strategies that can be incorporated into the flow of every class. \nCounts toward the CETLI Teaching Certificate.
URL:https://cetli.upenn.edu/event/making-an-effective-lesson-plan/
LOCATION:Van Pelt Library\, 3420 Walnut St\, Philadelphia\, PA\, 19104\, United States
CATEGORIES:Graduate Student Workshop
GEO:39.9527242;-75.1940217
X-APPLE-STRUCTURED-LOCATION;VALUE=URI;X-ADDRESS=Van Pelt Library 3420 Walnut St Philadelphia PA 19104 United States;X-APPLE-RADIUS=500;X-TITLE=3420 Walnut St:geo:-75.1940217,39.9527242
END:VEVENT
END:VCALENDAR